BEGIN:VCALENDAR
VERSION:2.0
PRODID:-//Humane Society of Calvert County - ECPv6.15.20//NONSGML v1.0//EN
CALSCALE:GREGORIAN
METHOD:PUBLISH
X-ORIGINAL-URL:https://humanesocietyofcalvertcounty.org
X-WR-CALDESC:Events for Humane Society of Calvert County
REFRESH-INTERVAL;VALUE=DURATION:PT1H
X-Robots-Tag:noindex
X-PUBLISHED-TTL:PT1H
BEGIN:VTIMEZONE
TZID:UTC
BEGIN:STANDARD
TZOFFSETFROM:+0000
TZOFFSETTO:+0000
TZNAME:UTC
DTSTART:20250101T000000
END:STANDARD
END:VTIMEZONE
BEGIN:VEVENT
DTSTART;VALUE=DATE:20260606
DTEND;VALUE=DATE:20260607
DTSTAMP:20260423T190639
CREATED:20260120T101515Z
LAST-MODIFIED:20260309T181656Z
UID:10000172-1780704000-1780790399@humanesocietyofcalvertcounty.org
SUMMARY:Sneades Bake Sale (Owings)
DESCRIPTION:
URL:https://humanesocietyofcalvertcounty.org/events/sneades-bake-sale-owings-2/
ATTACH;FMTTYPE=image/webp:https://humanesocietyofcalvertcounty.org/wp-content/uploads/2026/01/sneades6_6.webp
END:VEVENT
BEGIN:VEVENT
DTSTART;VALUE=DATE:20260607
DTEND;VALUE=DATE:20260608
DTSTAMP:20260423T190639
CREATED:20260120T101642Z
LAST-MODIFIED:20260320T180407Z
UID:10000173-1780790400-1780876799@humanesocietyofcalvertcounty.org
SUMMARY:Childrens Day at Jefferson Patterson Park
DESCRIPTION:
URL:https://humanesocietyofcalvertcounty.org/events/childrens-day-at-jefferson-patterson-park/
ATTACH;FMTTYPE=image/jpeg:https://humanesocietyofcalvertcounty.org/wp-content/uploads/2026/01/IMG_2745-1.jpg
END:VEVENT
BEGIN:VEVENT
DTSTART;VALUE=DATE:20260610
DTEND;VALUE=DATE:20260611
DTSTAMP:20260423T190639
CREATED:20260120T101923Z
LAST-MODIFIED:20260420T202338Z
UID:10000174-1781049600-1781135999@humanesocietyofcalvertcounty.org
SUMMARY:BRRR Ice Cream
DESCRIPTION:
URL:https://humanesocietyofcalvertcounty.org/events/brrr-ice-cream/
ATTACH;FMTTYPE=image/webp:https://humanesocietyofcalvertcounty.org/wp-content/uploads/2026/01/IMG_3096.webp
END:VEVENT
BEGIN:VEVENT
DTSTART;TZID=UTC:20260610T160000
DTEND;TZID=UTC:20260610T220000
DTSTAMP:20260423T190639
CREATED:20260309T184516Z
LAST-MODIFIED:20260309T184516Z
UID:10000190-1781107200-1781128800@humanesocietyofcalvertcounty.org
SUMMARY:Plaza Mexico Fundraiser Night
DESCRIPTION:North Beach
URL:https://humanesocietyofcalvertcounty.org/events/plaza-mexico-fundraiser-night/
ATTACH;FMTTYPE=image/webp:https://humanesocietyofcalvertcounty.org/wp-content/uploads/2026/03/plazamex6_10.webp
END:VEVENT
BEGIN:VEVENT
DTSTART;VALUE=DATE:20260612
DTEND;VALUE=DATE:20260613
DTSTAMP:20260423T190639
CREATED:20260120T102115Z
LAST-MODIFIED:20260420T201758Z
UID:10000175-1781222400-1781308799@humanesocietyofcalvertcounty.org
SUMMARY:Cold Penguin Ice Cream
DESCRIPTION:
URL:https://humanesocietyofcalvertcounty.org/events/cold-penguin-ice-cream/
ATTACH;FMTTYPE=image/webp:https://humanesocietyofcalvertcounty.org/wp-content/uploads/2026/01/IMG_3097.webp
END:VEVENT
BEGIN:VEVENT
DTSTART;TZID=UTC:20260620T120000
DTEND;TZID=UTC:20260620T140000
DTSTAMP:20260423T190639
CREATED:20260324T165310Z
LAST-MODIFIED:20260324T180444Z
UID:10000199-1781956800-1781964000@humanesocietyofcalvertcounty.org
SUMMARY:Calvert cliffs dogs in the park
DESCRIPTION:
URL:https://humanesocietyofcalvertcounty.org/events/calvert-cliffs-dogs-in-the-park/
ATTACH;FMTTYPE=image/webp:https://humanesocietyofcalvertcounty.org/wp-content/uploads/2026/03/Calvert-Cliffs-6.20.webp
END:VEVENT
END:VCALENDAR