BEGIN:VCALENDAR
VERSION:2.0
PRODID:-//Humane Society of Calvert County - ECPv6.15.20//NONSGML v1.0//EN
CALSCALE:GREGORIAN
METHOD:PUBLISH
X-ORIGINAL-URL:https://humanesocietyofcalvertcounty.org
X-WR-CALDESC:Events for Humane Society of Calvert County
REFRESH-INTERVAL;VALUE=DURATION:PT1H
X-Robots-Tag:noindex
X-PUBLISHED-TTL:PT1H
BEGIN:VTIMEZONE
TZID:UTC
BEGIN:STANDARD
TZOFFSETFROM:+0000
TZOFFSETTO:+0000
TZNAME:UTC
DTSTART:20250101T000000
END:STANDARD
END:VTIMEZONE
BEGIN:VEVENT
DTSTART;VALUE=DATE:20260505
DTEND;VALUE=DATE:20260506
DTSTAMP:20260423T174349
CREATED:20260120T085353Z
LAST-MODIFIED:20260217T164754Z
UID:10000169-1777939200-1778025599@humanesocietyofcalvertcounty.org
SUMMARY:Chesapeake Grill Dunkirk
DESCRIPTION:
URL:https://humanesocietyofcalvertcounty.org/events/chesapeake-grill-dunkirk/
ATTACH;FMTTYPE=image/webp:https://humanesocietyofcalvertcounty.org/wp-content/uploads/2026/01/chesgrillmay-5-scaled.webp
END:VEVENT
BEGIN:VEVENT
DTSTART;TZID=UTC:20260509T120000
DTEND;TZID=UTC:20260509T140000
DTSTAMP:20260423T174349
CREATED:20260324T165127Z
LAST-MODIFIED:20260324T165127Z
UID:10000198-1778328000-1778335200@humanesocietyofcalvertcounty.org
SUMMARY:Calvert Cliffs Dogs in the park Adoption Event
DESCRIPTION:
URL:https://humanesocietyofcalvertcounty.org/events/calvert-cliffs-dogs-in-the-park-adoption-event-2/
ATTACH;FMTTYPE=image/webp:https://humanesocietyofcalvertcounty.org/wp-content/uploads/2026/03/Calvert-Cliffs-5.9.webp
END:VEVENT
BEGIN:VEVENT
DTSTART;TZID=UTC:20260517T110000
DTEND;TZID=UTC:20260517T153000
DTSTAMP:20260423T174349
CREATED:20260120T101334Z
LAST-MODIFIED:20260309T183344Z
UID:10000171-1779015600-1779031800@humanesocietyofcalvertcounty.org
SUMMARY:Breakfast at Sniffany's
DESCRIPTION:
URL:https://humanesocietyofcalvertcounty.org/events/breakfast-at-sniffanys/
LOCATION:6932 Serenity Farm\, Hughsville MD\, 6932 Serenity Farm\, Hughsville MD\, MD\, United States
ATTACH;FMTTYPE=image/webp:https://humanesocietyofcalvertcounty.org/wp-content/uploads/2026/01/IMG_2642.webp
END:VEVENT
BEGIN:VEVENT
DTSTART;TZID=UTC:20260517T120000
DTEND;TZID=UTC:20260517T160000
DTSTAMP:20260423T174349
CREATED:20260210T000014Z
LAST-MODIFIED:20260210T000121Z
UID:10000186-1779019200-1779033600@humanesocietyofcalvertcounty.org
SUMMARY:2nd Annual Tails on the Trail Fun Fest
DESCRIPTION:Kings Landing Park\, Huntingtown MD \nAdmission is FREE ( no ticket required for entry) \nSee ticket link below to: sign up to be a Vendor\, bring a Food Truck\, become a sponsor or donate \nwww.eventbrite.com/e/tails-on-the-trails-funfest-tickets-1982399901470
URL:https://humanesocietyofcalvertcounty.org/events/2nd-annual-tails-on-the-trail-fun-fest/
LOCATION:Kings Landing Park\, Huntingtown MD
ATTACH;FMTTYPE=image/jpeg:https://humanesocietyofcalvertcounty.org/wp-content/uploads/2026/02/3371134678199977949.jpg
END:VEVENT
BEGIN:VEVENT
DTSTART;VALUE=DATE:20260531
DTEND;VALUE=DATE:20260601
DTSTAMP:20260423T174349
CREATED:20260320T193625Z
LAST-MODIFIED:20260320T193625Z
UID:10000197-1780185600-1780271999@humanesocietyofcalvertcounty.org
SUMMARY:Yappy Hour at the Wheel House Beer Garden in North Beach
DESCRIPTION:Stay tuned for more details
URL:https://humanesocietyofcalvertcounty.org/events/yappy-hour-at-the-wheel-house-beer-garden-in-north-beach/
END:VEVENT
BEGIN:VEVENT
DTSTART;TZID=UTC:20260531T120000
DTEND;TZID=UTC:20260531T150000
DTSTAMP:20260423T174349
CREATED:20260420T202818Z
LAST-MODIFIED:20260420T202818Z
UID:10000203-1780228800-1780239600@humanesocietyofcalvertcounty.org
SUMMARY:Yappy Hour\, Wheel House Beer Garden\, North Beach MD
DESCRIPTION:
URL:https://humanesocietyofcalvertcounty.org/events/yappy-hour-wheel-house-beer-garden-north-beach-md/
ATTACH;FMTTYPE=image/webp:https://humanesocietyofcalvertcounty.org/wp-content/uploads/2026/04/IMG_3095.webp
END:VEVENT
END:VCALENDAR