BEGIN:VCALENDAR
VERSION:2.0
PRODID:-//Humane Society of Calvert County - ECPv6.15.20//NONSGML v1.0//EN
CALSCALE:GREGORIAN
METHOD:PUBLISH
X-ORIGINAL-URL:https://humanesocietyofcalvertcounty.org
X-WR-CALDESC:Events for Humane Society of Calvert County
REFRESH-INTERVAL;VALUE=DURATION:PT1H
X-Robots-Tag:noindex
X-PUBLISHED-TTL:PT1H
BEGIN:VTIMEZONE
TZID:UTC
BEGIN:STANDARD
TZOFFSETFROM:+0000
TZOFFSETTO:+0000
TZNAME:UTC
DTSTART:20250101T000000
END:STANDARD
END:VTIMEZONE
BEGIN:VEVENT
DTSTART;VALUE=DATE:20260321
DTEND;VALUE=DATE:20260322
DTSTAMP:20260423T174247
CREATED:20260120T074904Z
LAST-MODIFIED:20260217T162023Z
UID:10000164-1774051200-1774137599@humanesocietyofcalvertcounty.org
SUMMARY:Rolands Adoption Event
DESCRIPTION:
URL:https://humanesocietyofcalvertcounty.org/events/rolands-adoption-event/
ATTACH;FMTTYPE=image/webp:https://humanesocietyofcalvertcounty.org/wp-content/uploads/2026/01/RAFFLE-EVENT-ROLANDS.webp
END:VEVENT
BEGIN:VEVENT
DTSTART;TZID=UTC:20260322T130000
DTEND;TZID=UTC:20260322T170000
DTSTAMP:20260423T174247
CREATED:20260302T182815Z
LAST-MODIFIED:20260302T182815Z
UID:10000187-1774184400-1774198800@humanesocietyofcalvertcounty.org
SUMMARY:Fundraiser afternoon at O'Gannigans Irish Pub!
DESCRIPTION:
URL:https://humanesocietyofcalvertcounty.org/events/fundraiser-afternoon-at-ogannigans-irish-pub/
LOCATION:98 Solomons Island Rd S\, Prince Frederick\, MD\, 98 Solomons Island Rd S\, Prince Frederick\, MD\, United States
END:VEVENT
BEGIN:VEVENT
DTSTART;TZID=UTC:20260322T130000
DTEND;TZID=UTC:20260322T170000
DTSTAMP:20260423T174247
CREATED:20260309T175901Z
LAST-MODIFIED:20260309T181735Z
UID:10000188-1774184400-1774198800@humanesocietyofcalvertcounty.org
SUMMARY:O'Gannigan's Fundraiser Afternoon
DESCRIPTION:
URL:https://humanesocietyofcalvertcounty.org/events/ogannigans-fundraiser-afternoon/
ATTACH;FMTTYPE=image/webp:https://humanesocietyofcalvertcounty.org/wp-content/uploads/2026/03/IMG_2638.webp
END:VEVENT
BEGIN:VEVENT
DTSTART;VALUE=DATE:20260325
DTEND;VALUE=DATE:20260326
DTSTAMP:20260423T174247
CREATED:20260120T075231Z
LAST-MODIFIED:20260203T185439Z
UID:10000165-1774396800-1774483199@humanesocietyofcalvertcounty.org
SUMMARY:Chipotle Dunkirk
DESCRIPTION:
URL:https://humanesocietyofcalvertcounty.org/events/chipotle-dunkirk/
ATTACH;FMTTYPE=image/webp:https://humanesocietyofcalvertcounty.org/wp-content/uploads/2026/01/IMG_1260.webp
END:VEVENT
END:VCALENDAR