BEGIN:VCALENDAR
VERSION:2.0
PRODID:-//Humane Society of Calvert County - ECPv6.15.20//NONSGML v1.0//EN
CALSCALE:GREGORIAN
METHOD:PUBLISH
X-WR-CALNAME:Humane Society of Calvert County
X-ORIGINAL-URL:https://humanesocietyofcalvertcounty.org
X-WR-CALDESC:Events for Humane Society of Calvert County
REFRESH-INTERVAL;VALUE=DURATION:PT1H
X-Robots-Tag:noindex
X-PUBLISHED-TTL:PT1H
BEGIN:VTIMEZONE
TZID:UTC
BEGIN:STANDARD
TZOFFSETFROM:+0000
TZOFFSETTO:+0000
TZNAME:UTC
DTSTART:20250101T000000
END:STANDARD
END:VTIMEZONE
BEGIN:VEVENT
DTSTART;VALUE=DATE:20261114
DTEND;VALUE=DATE:20261115
DTSTAMP:20260419T152603
CREATED:20260120T102919Z
LAST-MODIFIED:20260120T102919Z
UID:10000184-1794614400-1794700799@humanesocietyofcalvertcounty.org
SUMMARY:Sneades Bake Sale (Owings)
DESCRIPTION:
URL:https://humanesocietyofcalvertcounty.org/events/sneades-bake-sale-owings-4/
END:VEVENT
BEGIN:VEVENT
DTSTART;TZID=UTC:20261114T180000
DTEND;TZID=UTC:20261114T220000
DTSTAMP:20260419T152603
CREATED:20260324T170017Z
LAST-MODIFIED:20260324T170211Z
UID:10000201-1794679200-1794693600@humanesocietyofcalvertcounty.org
SUMMARY:Holiday Bingo
DESCRIPTION:Calvert Elks Lodge\, Prince Frederick\nStay tuned for tickets and details
URL:https://humanesocietyofcalvertcounty.org/events/holiday-bingo/
ATTACH;FMTTYPE=image/webp:https://humanesocietyofcalvertcounty.org/wp-content/uploads/2026/03/Holiday-Bingo.webp
END:VEVENT
END:VCALENDAR