BEGIN:VCALENDAR
VERSION:2.0
PRODID:-//Humane Society of Calvert County - ECPv6.15.20//NONSGML v1.0//EN
CALSCALE:GREGORIAN
METHOD:PUBLISH
X-WR-CALNAME:Humane Society of Calvert County
X-ORIGINAL-URL:https://humanesocietyofcalvertcounty.org
X-WR-CALDESC:Events for Humane Society of Calvert County
REFRESH-INTERVAL;VALUE=DURATION:PT1H
X-Robots-Tag:noindex
X-PUBLISHED-TTL:PT1H
BEGIN:VTIMEZONE
TZID:UTC
BEGIN:STANDARD
TZOFFSETFROM:+0000
TZOFFSETTO:+0000
TZNAME:UTC
DTSTART:20250101T000000
END:STANDARD
END:VTIMEZONE
BEGIN:VEVENT
DTSTART;VALUE=DATE:20260811
DTEND;VALUE=DATE:20260812
DTSTAMP:20260423T232909
CREATED:20260120T102451Z
LAST-MODIFIED:20260120T102451Z
UID:10000179-1786406400-1786492799@humanesocietyofcalvertcounty.org
SUMMARY:Chesapeake Market\, North Beach
DESCRIPTION:
URL:https://humanesocietyofcalvertcounty.org/events/chesapeake-market-north-beach-2/
END:VEVENT
END:VCALENDAR