BEGIN:VCALENDAR
VERSION:2.0
PRODID:-//Humane Society of Calvert County - ECPv6.15.20//NONSGML v1.0//EN
CALSCALE:GREGORIAN
METHOD:PUBLISH
X-WR-CALNAME:Humane Society of Calvert County
X-ORIGINAL-URL:https://humanesocietyofcalvertcounty.org
X-WR-CALDESC:Events for Humane Society of Calvert County
REFRESH-INTERVAL;VALUE=DURATION:PT1H
X-Robots-Tag:noindex
X-PUBLISHED-TTL:PT1H
BEGIN:VTIMEZONE
TZID:UTC
BEGIN:STANDARD
TZOFFSETFROM:+0000
TZOFFSETTO:+0000
TZNAME:UTC
DTSTART:20250101T000000
END:STANDARD
END:VTIMEZONE
BEGIN:VEVENT
DTSTART;VALUE=DATE:20260505
DTEND;VALUE=DATE:20260506
DTSTAMP:20260423T174543
CREATED:20260120T085353Z
LAST-MODIFIED:20260217T164754Z
UID:10000169-1777939200-1778025599@humanesocietyofcalvertcounty.org
SUMMARY:Chesapeake Grill Dunkirk
DESCRIPTION:
URL:https://humanesocietyofcalvertcounty.org/events/chesapeake-grill-dunkirk/
ATTACH;FMTTYPE=image/webp:https://humanesocietyofcalvertcounty.org/wp-content/uploads/2026/01/chesgrillmay-5-scaled.webp
END:VEVENT
END:VCALENDAR